BEGIN:VCALENDAR
VERSION:2.0
METHOD:PUBLISH
BEGIN:VEVENT
DTSTART:20260223T140000
DTEND:20260223T140000
LOCATION:The Bridge Wrocław - MGallery Plac Katedralny 8  50-329 Wrocław
TRANSP: OPAQUE
SEQUENCE:0
UID:
DTSTAMP:20260421T031229Z
SUMMARY:Dostępność w turystyce
DESCRIPTION:UWAGA - BRAK WOLNYCH MIEJSC. REJESTRACJA ZAKOŃCZONA. Uwaga - zmiana godziny rozpoczęcia wydarzenia.Konferencja rozpoczyna się o godz. 14:00."Dostępność w turystyce" to konferencja branżowa......
URL:https://app.evenea.pl/event/dostepnoscwturystyce/
PRIORITY:1
CLASS:PUBLIC
END:VEVENT
END:VCALENDAR
