BEGIN:VCALENDAR
VERSION:2.0
METHOD:PUBLISH
BEGIN:VEVENT
DTSTART:20241213T100000
DTEND:20241213T100000
LOCATION:Microsoft Teams   
TRANSP: OPAQUE
SEQUENCE:0
UID:
DTSTAMP:20260423T170921Z
SUMMARY:WEBINAR: Dotacja dla rzemieślników ze Śląska 2025
DESCRIPTION:LPW Grupa zaprasza 13.12 (piątek) o godz. 10.00 na bezpłatny webinar dotyczący uruchomienia naboru w styczniu 2025 r. na dotację UE dla rzemieślników z województwa Śląskiego! Jeśli nie......
URL:https://app.evenea.pl/event/dotacja-dla-rzemieslinikow-slask/
PRIORITY:1
CLASS:PUBLIC
END:VEVENT
END:VCALENDAR
