BEGIN:VCALENDAR
VERSION:2.0
METHOD:PUBLISH
BEGIN:VEVENT
DTSTART:20210226T100000
DTEND:20210226T100000
LOCATION:   
TRANSP: OPAQUE
SEQUENCE:0
UID:
DTSTAMP:20260424T233229Z
SUMMARY:Akademia Aeropolis ONLINE: Dotacje na innowacje
DESCRIPTION:Rzeszowska Agencja Rozwoju Regionalnego S.A. zaprasza wszystkich przedsiębiorców z województwa podkarpackiego na bezpłatną konferencję dotycząca możliwości pozyskania dofinansowania na......
URL:https://app.evenea.pl/event/dotacje-na-innowacje/
PRIORITY:1
CLASS:PUBLIC
END:VEVENT
END:VCALENDAR
