BEGIN:VCALENDAR
VERSION:2.0
METHOD:PUBLISH
BEGIN:VEVENT
DTSTART:20251108T170000
DTEND:20251108T200000
LOCATION:Najmniejsza Szkoła Perkusyjna w Łodzi Drum Room Wojciech Andrzejewski Kościuszki 80/82  Łódź
TRANSP: OPAQUE
SEQUENCE:0
UID:
DTSTAMP:20260419T190121Z
SUMMARY:PODWÓJNA STOPA Z ADAMEM MARSZAŁKOWSKIM (Coma)
DESCRIPTION:8 listopada o godz. 17.00 odbędzie się warsztat perkusyjny dotyczący gry na podwójnej stopie, który poprowadzi Adam Marszałkowski, perkusista zespołu COMA. Szkolenie trwające 3 godzinki......
URL:https://app.evenea.pl/event/doublebass/
PRIORITY:1
CLASS:PUBLIC
END:VEVENT
END:VCALENDAR
