BEGIN:VCALENDAR
VERSION:2.0
METHOD:PUBLISH
BEGIN:VEVENT
DTSTART:20190804T090000
DTEND:20190804T170000
LOCATION:FabLab Gdańsk powered by Orange ul. Dolna Brama 8  Gdańsk
TRANSP: OPAQUE
SEQUENCE:0
UID:
DTSTAMP:20260424T230046Z
SUMMARY:Elektronika techniczna: Drut a kabel. I co dalej?
DESCRIPTION:Warsztaty mają na celu pokazanie i nauczenie prawidłowych metod wykonywania okablowań i wszystkiego co się z nimi łączy, przybliżenie najczęściej popełnianych błędów w większości......
URL:https://app.evenea.pl/event/drut/
PRIORITY:1
CLASS:PUBLIC
END:VEVENT
END:VCALENDAR
