BEGIN:VCALENDAR
VERSION:2.0
METHOD:PUBLISH
BEGIN:VEVENT
DTSTART:20240907T100000
DTEND:20240907T180000
LOCATION:Centrum Targowe PARK ul. Szosza Bydgoska 3  87-100 Toruń
TRANSP: OPAQUE
SEQUENCE:0
UID:
DTSTAMP:20260421T123122Z
SUMMARY:Drutozlot 2024
DESCRIPTION:Spotkanie zakochanych we włóczkach i dzierganiu - Toruń 2024Każdy kto zakupi bilet na naszą Imprezę powinien otrzymać maila potwierdzającego transakcję, w którym znajduje się link do......
URL:https://app.evenea.pl/event/drutozlot2024/
PRIORITY:1
CLASS:PUBLIC
END:VEVENT
END:VCALENDAR
