BEGIN:VCALENDAR
VERSION:2.0
METHOD:PUBLISH
BEGIN:VEVENT
DTSTART:20200818T210000
DTEND:20200818T210000
LOCATION:Kolonia Artystów aleja grunwaldzka 51  80-241 Gdańsk
TRANSP: OPAQUE
SEQUENCE:0
UID:
DTSTAMP:20260424T205304Z
SUMMARY:Nocne Kino / On Art. Festival / 18.08.2020
DESCRIPTION:Pokaz 0518/08/2020 g. 21:00 Marcel Duchamp: Art of the Possible 89 minuty / dokumentStany Zjednoczone 2019 reż. Matthew Taylor "W jaki sposób rewolucyjne pomysły Duchampa, giganta kreatywności......
URL:https://app.evenea.pl/event/duchamp/
PRIORITY:1
CLASS:PUBLIC
END:VEVENT
END:VCALENDAR
