BEGIN:VCALENDAR
VERSION:2.0
METHOD:PUBLISH
BEGIN:VEVENT
DTSTART:20231009T173000
DTEND:20231009T193000
LOCATION:Dwór Uphagena ul. Kieturakisa 1  Gdańsk
TRANSP: OPAQUE
SEQUENCE:0
UID:
DTSTAMP:20260421T142647Z
SUMMARY:9.10 g. 17:30 ARCHI Spacer + Archi Prelekcja || "Less is Core - archi-modernizacje Dwór Uphagena na Dolnym Mieście w Gdańsku" -  prowadzenie arch. Piotr Grochowski (główny architekt grupy ARCHE)
DESCRIPTION:9 października, g. 17:30 - w cyklu "Spotkania z Architekturą" zapraszamy na Spacer z architektem + Archi Prelekcję pt. "Less is Core - archi-modernizacje Dwór Uphagena na Dolnym Mieście w......
URL:https://app.evenea.pl/event/dworuphagenadolnemiasto/
PRIORITY:1
CLASS:PUBLIC
END:VEVENT
END:VCALENDAR
