BEGIN:VCALENDAR
VERSION:2.0
METHOD:PUBLISH
BEGIN:VEVENT
DTSTART:20251031T143000
DTEND:20251031T163000
LOCATION:Sala Zabaw Dzikie Pląsy ul. Klasyczna 2/2  Borkowo
TRANSP: OPAQUE
SEQUENCE:0
UID:
DTSTAMP:20260424T073013Z
SUMMARY:Dyniowe Party bez straszenia (3-5 lat) Borkowo
DESCRIPTION:Dyniowe Party nadchodzi, wiele uśmiechów się zrodzi. Imprezka szykuje się dzika, kto jeszcze z nami pofika? Halloweenowe szaleństwo w toku, jak co roku.Dyniowe Party bez straszenia31......
URL:https://app.evenea.pl/event/dyniowe-party-2025/
PRIORITY:1
CLASS:PUBLIC
END:VEVENT
END:VCALENDAR
