BEGIN:VCALENDAR
VERSION:2.0
METHOD:PUBLISH
BEGIN:VEVENT
DTSTART:20230629T200000
DTEND:20230629T200000
LOCATION:KOLONIA aleja Grunwaldzka 51  Gdańsk
TRANSP: OPAQUE
SEQUENCE:0
UID:
DTSTAMP:20260423T193250Z
SUMMARY:Dyplom Oskara 2023 Kolonia Artystów
DESCRIPTION:Opis wydarzenia : "Dyplom Oskara 2023 Kolonia Artystów"" Ekologia jest studiami nad relacją pomiędzy organizmami żywymi i ich środowiskiem. Ekologia akustyczna jest zatem badaniem dźwięków......
URL:https://app.evenea.pl/event/dyplomoskara/
PRIORITY:1
CLASS:PUBLIC
END:VEVENT
END:VCALENDAR
