BEGIN:VCALENDAR
VERSION:2.0
METHOD:PUBLISH
BEGIN:VEVENT
DTSTART:20240508T170000
DTEND:20240508T170000
LOCATION:Sala w budynku administracyjno-biurowym (budynek Ośrodka Pomocy Społecznej) ul. Rydułtowska 1  Gaszowice
TRANSP: OPAQUE
SEQUENCE:0
UID:
DTSTAMP:20260420T014047Z
SUMMARY:Działaj Lokalnie 2024 - jak otrzymać dotację? Szkolenie w gminie Gaszowice.
DESCRIPTION:Zapraszamy na szkolenie stacjonarne z tematyki wnioskowania o dotację w Programie Działaj Lokalnie. Spotkanie odbędzie się 08 maja o 17:00 w w sali budynku administracyjno-biurowego w......
URL:https://app.evenea.pl/event/dzialajlokalnie-gaszowice-2024/
PRIORITY:1
CLASS:PUBLIC
END:VEVENT
END:VCALENDAR
