BEGIN:VCALENDAR
VERSION:2.0
METHOD:PUBLISH
BEGIN:VEVENT
DTSTART:20250705T103000
DTEND:20250705T103000
LOCATION:Miejsce Aktywności Lokalnej Szerokie Możliwości ul. Nałęczowska 175  Lublin
TRANSP: OPAQUE
SEQUENCE:0
UID:
DTSTAMP:20260420T152246Z
SUMMARY:Dzień czekolady - Czekoladowi Artyści
DESCRIPTION:Zapraszamy na warsztaty dla dzieci w wieku 1-3 lata z okazji Dnia Czekolady.W programie:- malowanie jadalnych obrazów,- zabawy z czekoliną,- quiz wiedzy o czekoladzie dla......
URL:https://app.evenea.pl/event/dzien-czekolady/
PRIORITY:1
CLASS:PUBLIC
END:VEVENT
END:VCALENDAR
