BEGIN:VCALENDAR
VERSION:2.0
METHOD:PUBLISH
BEGIN:VEVENT
DTSTART:20230309T160000
DTEND:20230309T200000
LOCATION:Płocki Park Przemysłowo-Technologiczny S.A. Łukasiewicza 39  Płock
TRANSP: OPAQUE
SEQUENCE:0
UID:
DTSTAMP:20260420T080929Z
SUMMARY:DZIEŃ KOBIET ZE STYLEM
DESCRIPTION:DZIEŃ KOBIET ZE STYLEM WARSZTAT, NA KTÓRYM UBIERZESZ SWOJĄ OSOBOWOŚĆTo będzie wyjątkowy i STYLOWY dzień, dzięki któremu nie tylko skupisz się na swoim wizerunku, ale przede wszystkim......
URL:https://app.evenea.pl/event/dzien-kobiet-ze-stylem/
PRIORITY:1
CLASS:PUBLIC
END:VEVENT
END:VCALENDAR
