BEGIN:VCALENDAR
VERSION:2.0
METHOD:PUBLISH
BEGIN:VEVENT
DTSTART:20230426T110000
DTEND:20230426T140000
LOCATION:Franklin Templeton, Nowy Rynek ul. Przemysłowa 3  Poznań
TRANSP: OPAQUE
SEQUENCE:0
UID:
DTSTAMP:20260421T053031Z
SUMMARY:Dzień Otwarty dla rodziców we Franklin Templeton w Poznaniu - 26 kwietnia 2023
DESCRIPTION:Z mitami stykamy się niemal na każdym kroku. Część z nich dotyczy zmiany pracy bądź powrotu do pracy. Inne narosły wokół regulacji prawnych dotyczących rodzicielstwa. Panuje też wiele......
URL:https://app.evenea.pl/event/dzien-otwarty-dla-rodzicow-franklin-templeton-kwiecien2023/
PRIORITY:1
CLASS:PUBLIC
END:VEVENT
END:VCALENDAR
