BEGIN:VCALENDAR
VERSION:2.0
METHOD:PUBLISH
BEGIN:VEVENT
DTSTART:20190923T130000
DTEND:20190923T160000
LOCATION:Agencja Rozwoju Pomorza, OBC, bud. Olivia Six Al. Grunwaldzka 472  Gdańsk
TRANSP: OPAQUE
SEQUENCE:0
UID:
DTSTAMP:20260422T190727Z
SUMMARY:"Dzień Wschodniej Brandenburgii", 23.09.2019, Gdańsk, Olivia Business Centre
DESCRIPTION:W imieniu Izby Przemysłowo-Handlowej Wschodniej Brandenburgii, Business Location Network oraz ośrodków Enterprise Europe Network z Brandenburgii i Pomorza, zapraszamy na bezpłatne seminarium......
URL:https://app.evenea.pl/event/dzienbrandenburgii/
PRIORITY:1
CLASS:PUBLIC
END:VEVENT
END:VCALENDAR
