BEGIN:VCALENDAR
VERSION:2.0
METHOD:PUBLISH
BEGIN:VEVENT
DTSTART:20240604T160000
DTEND:20240604T190000
LOCATION:Ogrody Społeczne Osiedle Szkolne 22  Kraków
TRANSP: OPAQUE
SEQUENCE:0
UID:
DTSTAMP:20260423T061624Z
SUMMARY:Językowy Dzień Dziecka: gry i zabawy w Ogrodach Społecznych I Children's Language Day: games and fun at Community Gardens I Мовний день захисту дітей: ігри та розваги у Громадському саду
DESCRIPTION:PLZapraszamy na Językowy Dzień Dziecka z IB w HucieJęzykowy Dzień Dziecka to okazja do nauki poprzez zabawę w Ogrodach na Osiedlu Szkolnym 22.W programie na wtorek mamy językowe gry i zabawy......
URL:https://app.evenea.pl/event/dziendziecka0406/
PRIORITY:1
CLASS:PUBLIC
END:VEVENT
END:VCALENDAR
