BEGIN:VCALENDAR
VERSION:2.0
METHOD:PUBLISH
BEGIN:VEVENT
DTSTART:20240606T160000
DTEND:20240606T173000
LOCATION:Centrum Edukacji i Wsparcia Osiedle Górali 24  Kraków
TRANSP: OPAQUE
SEQUENCE:0
UID:
DTSTAMP:20260423T061624Z
SUMMARY:Językowy Dzień Dziecka: warsztaty artystyczne "Wykonaj Smoka-skarbonkę" I Children's Language Day: art workshop "Make your own Dragon-bank" I День захисту дітей: "Змайструй дракончика-скарбничку"
DESCRIPTION:Zapraszamy na Językowy Dzień Dziecka z IB w HucieJęzykowy Dzień Dziecka to okazja do nauki poprzez zabawę w Centrum Edukacji i Wsparcia.Stwórz własnego smoka-skarbonkę przed coroczną......
URL:https://app.evenea.pl/event/dziendziecka0606/
PRIORITY:1
CLASS:PUBLIC
END:VEVENT
END:VCALENDAR
