BEGIN:VCALENDAR
VERSION:2.0
METHOD:PUBLISH
BEGIN:VEVENT
DTSTART:20240607T160000
DTEND:20240607T190000
LOCATION:Miejsce Otwarte Osiedle Górali 24  Kraków
TRANSP: OPAQUE
SEQUENCE:0
UID:
DTSTAMP:20260423T061611Z
SUMMARY:Językowy Dzień Dziecka: językowe zabawy i karaoke I Children's Language Day: language learning games and karaoke | Дитячий мовний день: мовні ігри та караоке
DESCRIPTION:Zapraszamy na Językowy Dzień Dziecka z IB w HucieJęzykowy Dzień Dziecka to okazja do nauki poprzez zabawę w Miejscu OtwartymPiątek to czas na zabawę. Uczymy się angielskiego przez zabawę i......
URL:https://app.evenea.pl/event/dziendziecka0706/
PRIORITY:1
CLASS:PUBLIC
END:VEVENT
END:VCALENDAR
