BEGIN:VCALENDAR
VERSION:2.0
METHOD:PUBLISH
BEGIN:VEVENT
DTSTART:20200826T100000
DTEND:20200826T160000
LOCATION:District Hall w Cambridge Innovation Centre Chmielna 73  Warszawa
TRANSP: OPAQUE
SEQUENCE:0
UID:
DTSTAMP:20260424T140109Z
SUMMARY:DZIEŃ Z FUNDACJĄ MOST W DISTRICT HALL
DESCRIPTION:Jak zaprojektować produkt czy usługę? Który model biznesowy będzie odpowiedni? Jaki rynek wybrać? Jak zbudować zespół? Co jest potrzebne do skutecznej sprzedaży? Kiedy wejść na rynki......
URL:https://app.evenea.pl/event/dzienmost/
PRIORITY:1
CLASS:PUBLIC
END:VEVENT
END:VCALENDAR
