BEGIN:VCALENDAR
VERSION:2.0
METHOD:PUBLISH
BEGIN:VEVENT
DTSTART:20260207T110000
DTEND:20260207T110000
LOCATION:Liceum Artes Liberales Ogrodowa 58, 6 piętro  Warszawa
TRANSP: OPAQUE
SEQUENCE:0
UID:
DTSTAMP:20260419T162006Z
SUMMARY:07.02.2026 | 11:00 Dzień otwarty Liceum Artes Liberales
DESCRIPTION:Serdecznie zapraszamy na dzień otwarty i spotkanie informacyjne o rekrutacji w kampusie Liceum Artes Liberales! Jestesmy innowacyjną szkołą stworzoną przez pasjonatów edukacji, oferującą......
URL:https://app.evenea.pl/event/dzienotwarty2026/
PRIORITY:1
CLASS:PUBLIC
END:VEVENT
END:VCALENDAR
