BEGIN:VCALENDAR
VERSION:2.0
METHOD:PUBLISH
BEGIN:VEVENT
DTSTART:20230621T100000
DTEND:20230621T130000
LOCATION:Centrum Druku 3D - Pomorska Agencja Rozwoju Regionalnego S.A. Obrońców Wybrzeza 3 B  Słupsk
TRANSP: OPAQUE
SEQUENCE:0
UID:
DTSTAMP:20260424T210722Z
SUMMARY:"Dzień przedsiębiorcy 2023 - śniadanie biznesowe i warsztaty w Centrum 3D w Słupsku"
DESCRIPTION:Pomorska Agencja Rozwoju Regionalnego S.A. wraz z Partnerami zaprasza na "Dzień przedsiębiorcy 2023 - śniadanie biznesowe i warsztaty w Centrum 3D w Słupsku". W dniu 21.06.2023r. w Słupsku......
URL:https://app.evenea.pl/event/dzienprzedsiedsiebiorcyslupsk/
PRIORITY:1
CLASS:PUBLIC
END:VEVENT
END:VCALENDAR
