BEGIN:VCALENDAR
VERSION:2.0
METHOD:PUBLISH
BEGIN:VEVENT
DTSTART:20240606T173000
DTEND:20240606T190000
LOCATION:Centrum Edukacji i Wsparcia Osiedle Górali 24  Kraków
TRANSP: OPAQUE
SEQUENCE:0
UID:
DTSTAMP:20260423T061750Z
SUMMARY:Językowy Dzień Dziecka: bajki naszych dziadków w starym kinie I Children's Language Day: oldschool animated movies | День захисту дітей: казки наших бабусь і дідусів у старому кінотеатрі
DESCRIPTION:PLZapraszamy na Językowy Dzień Dziecka z IB w HucieJęzykowy Dzień Dziecka to okazja do nauki poprzez zabawę w Centrum Edukacji i Wsparcia.Zapraszamy na pokaz starych, cudownych bajek w starym......
URL:https://app.evenea.pl/event/dziensmoka0606/
PRIORITY:1
CLASS:PUBLIC
END:VEVENT
END:VCALENDAR
