BEGIN:VCALENDAR
VERSION:2.0
METHOD:PUBLISH
BEGIN:VEVENT
DTSTART:20240519T113000
DTEND:20240519T133000
LOCATION:Wejście do ZOO Kraków ul. Kasy Oszczędności Miasta Krakowa 14  Kraków
TRANSP: OPAQUE
SEQUENCE:0
UID:
DTSTAMP:20260423T020823Z
SUMMARY:Chcesz poznać dziką stronę przyrody? | Do you want to discover the wild side of nature? | Хочете дослідити дику сторону природи?
DESCRIPTION:\n\n	Chcesz poznać dziką stronę przyrody? Maj-Lipiec\n\n\n\n	PL\n\n\n\n	Dołącz do naszych zajęć, na których spotkasz się nie tylko z domowymi pupilami, ale także kozami, lwami, zebrami a......
URL:https://app.evenea.pl/event/dzikaprzyroda/
PRIORITY:1
CLASS:PUBLIC
END:VEVENT
END:VCALENDAR
