BEGIN:VCALENDAR
VERSION:2.0
METHOD:PUBLISH
BEGIN:VEVENT
DTSTART:20230619T121500
DTEND:20230624T170000
LOCATION:Wroclavia Sucha 1  Wrocław
TRANSP: OPAQUE
SEQUENCE:0
UID:
DTSTAMP:20260425T045020Z
SUMMARY:Jak zachować się, gdy zobaczymy w mieście wiewórkę czy sarnę?
DESCRIPTION:Jak zachować się, gdy zobaczymy w mieście wiewiórkę czy sarnę? Wroclavia i ZOO Wrocław zapraszają uczniów na niezwykłe warsztaty edukacyjne w centrum handlowym!Celem zajęć jest......
URL:https://app.evenea.pl/event/dzikiewmiescie/
PRIORITY:1
CLASS:PUBLIC
END:VEVENT
END:VCALENDAR
