BEGIN:VCALENDAR
VERSION:2.0
METHOD:PUBLISH
BEGIN:VEVENT
DTSTART:20260131T110000
DTEND:20260131T123000
LOCATION:Wieża Wrocław Elbląska 64  Wrocław
TRANSP: OPAQUE
SEQUENCE:0
UID:
DTSTAMP:20260422T020723Z
SUMMARY:OPROWADZANIE SPECJALNE PO WIEŻY 31.01
DESCRIPTION:W styczniu zapraszam na 𝗢𝗣𝗥𝗢𝗪𝗔𝗗𝗭𝗔𝗡𝗜E 𝗦𝗣𝗘𝗖𝗝𝗔𝗟𝗡𝗘 w ostatnią sobotę 31.01 o 11.00. To wyjątkowa okazja do zwiedzania Wieży i spotkania z......
URL:https://app.evenea.pl/event/e64oprowadzanie3101/
PRIORITY:1
CLASS:PUBLIC
END:VEVENT
END:VCALENDAR
