BEGIN:VCALENDAR
VERSION:2.0
METHOD:PUBLISH
BEGIN:VEVENT
DTSTART:20240608T180000
DTEND:20240608T210000
LOCATION:bemowski ośrodek piłki nożnej Obrońców Tobruku 11  Warszawa
TRANSP: OPAQUE
SEQUENCE:0
UID:
DTSTAMP:20260423T134331Z
SUMMARY:Mecz futbolu amerykańskiego PFL1: Warsaw Eagles - Lowlanders Białystok
DESCRIPTION:Zapraszamy 8. czerwca na spotkanie Polskiej Futbol Ligi!Przed nami czwarty mecz domowy mecz sezonu zasadniczego w 2024!Warsaw Eagles - Lowlanders BiałystokRozpoczęcie spotkania: godzina 18:00,......
URL:https://app.evenea.pl/event/eagles-lowlanders/
PRIORITY:1
CLASS:PUBLIC
END:VEVENT
END:VCALENDAR
