BEGIN:VCALENDAR
VERSION:2.0
METHOD:PUBLISH
BEGIN:VEVENT
DTSTART:20250922T180000
DTEND:20250922T200000
LOCATION:Online Online  Online
TRANSP: OPAQUE
SEQUENCE:0
UID:
DTSTAMP:20260422T210652Z
SUMMARY:Employer Branding Stage #8 (online)
DESCRIPTION:⏱ Data: 22.09.2025 roku, godz. 18:00🔵 Miejsce: Online (każda osoba, która zarejestruje się na wydarzenie, otrzyma link do transmisji)Zapraszamy na kolejną edycję wydarzenia Employer......
URL:https://app.evenea.pl/event/ebstage8/
PRIORITY:1
CLASS:PUBLIC
END:VEVENT
END:VCALENDAR
