BEGIN:VCALENDAR
VERSION:2.0
METHOD:PUBLISH
BEGIN:VEVENT
DTSTART:20260221T190000
DTEND:20260221T190000
LOCATION:Kolonia Aleja Grunwaldzka 51  Gdańsk
TRANSP: OPAQUE
SEQUENCE:0
UID:
DTSTAMP:20260420T162916Z
SUMMARY:ODSŁUCH 21/02/2026 godz. 19:00
DESCRIPTION:ODSŁUCH 17 Adam Witkowski - Echosphere GD21/02/2026 godz. 19:00Kolonia | Gdańsk | Al. Grunwaldzka 51Ilość miejsc ograniczona, obowiązuje rezerwacja:......
URL:https://app.evenea.pl/event/echosphere/
PRIORITY:1
CLASS:PUBLIC
END:VEVENT
END:VCALENDAR
