BEGIN:VCALENDAR
VERSION:2.0
METHOD:PUBLISH
BEGIN:VEVENT
DTSTART:20210508T113000
DTEND:20210508T113000
LOCATION:Robisz.to - Online Online  Online
TRANSP: OPAQUE
SEQUENCE:0
UID:
DTSTAMP:20260422T220904Z
SUMMARY:Eco Organizer
DESCRIPTION:Eco OrganizerOpis warsztatu:W czasie zajęć uczestnicy wykonają swój własny, niewielki organizer na przybory codziennego użytku. Dzięki niemu ulubione pióro, kredki, długopisy, pędzle czy......
URL:https://app.evenea.pl/event/ecoorganizer/
PRIORITY:1
CLASS:PUBLIC
END:VEVENT
END:VCALENDAR
