BEGIN:VCALENDAR
VERSION:2.0
METHOD:PUBLISH
BEGIN:VEVENT
DTSTART:20201201T110000
DTEND:20201201T110000
LOCATION:Platforma Zoom   
TRANSP: OPAQUE
SEQUENCE:0
UID:
DTSTAMP:20260425T224845Z
SUMMARY:E-debata "EKO 2.0. Ekologiczne rozwiązania, które oszczędzają jednocześnie środowisko i pieniądze"
DESCRIPTION:Zapraszamy na debatę online pt. "EKO 2.0. Ekologiczne rozwiązania, które oszczędzają jednocześnie środowisko i pieniądze"1 grudnia (wtorek) o godz. 11.00 w gronie znanych ekspertów......
URL:https://app.evenea.pl/event/edebataeko/
PRIORITY:1
CLASS:PUBLIC
END:VEVENT
END:VCALENDAR
