BEGIN:VCALENDAR
VERSION:2.0
METHOD:PUBLISH
BEGIN:VEVENT
DTSTART:20231021T090000
DTEND:20231021T140000
LOCATION:Centrum Nauki Experyment al. Zwycięstwa 96/98  Gdynia
TRANSP: OPAQUE
SEQUENCE:0
UID:
DTSTAMP:20260423T175337Z
SUMMARY:Edukacja ekologiczna na fali - wszyscy mieszkamy nad morzem
DESCRIPTION:Edukacja ekologiczna na fali - wszyscy mieszkamy nad morzem Zapraszamy nauczycielki i nauczycieli na bezpłatne szkolenie w ramach specjalnej odsłony cyklu WARTO SIĘ SZKOLIĆ, które odbędzie......
URL:https://app.evenea.pl/event/edukacjaekologicznanafali2/
PRIORITY:1
CLASS:PUBLIC
END:VEVENT
END:VCALENDAR
