BEGIN:VCALENDAR
VERSION:2.0
METHOD:PUBLISH
BEGIN:VEVENT
DTSTART:20260423T083000
DTEND:20260423T143000
LOCATION:Centrum Nauki Experyment Aleja Zwycięstwa 96/98  Gdynia
TRANSP: OPAQUE
SEQUENCE:0
UID:
DTSTAMP:20260422T175302Z
SUMMARY:Konferencja EDUKACJA W AKCJI nauczyciel w centrum
DESCRIPTION:Zapraszamy nauczycielki, nauczycieli, rodziców oraz studentów pedagogiki na coroczną konferencję Experymentu EDUKACJA W AKCJI.W tej edycji sprawdzimy, jak zmienia się edukacja w świecie......
URL:https://app.evenea.pl/event/edukacjawakcji2026/
PRIORITY:1
CLASS:PUBLIC
END:VEVENT
END:VCALENDAR
