BEGIN:VCALENDAR
VERSION:2.0
METHOD:PUBLISH
BEGIN:VEVENT
DTSTART:20230223T180000
DTEND:20230223T220000
LOCATION:DoubleTree by Hilton ul. Podwale 84  50-414 Wrocław
TRANSP: OPAQUE
SEQUENCE:0
UID:
DTSTAMP:20260421T193954Z
SUMMARY:Spotkanie miesięczne EF w dniu 23.02.2023 / EF-Monatstreffen am 23.02.2023
DESCRIPTION:Liebe Vereinsmitglieder und Gäste,der Deutsch-Polnische Wirtschaftskreis EUROPA FORUM möchte Sie zum nächsten Monatstreffen im Februar 2023 zum ThemaEin Blick in die Zukunft mit......
URL:https://app.evenea.pl/event/efandcasus/
PRIORITY:1
CLASS:PUBLIC
END:VEVENT
END:VCALENDAR
