BEGIN:VCALENDAR
VERSION:2.0
METHOD:PUBLISH
BEGIN:VEVENT
DTSTART:20230712T120000
DTEND:20230712T143000
LOCATION:inQUBE Wielka 67  Wrocław
TRANSP: OPAQUE
SEQUENCE:0
UID:
DTSTAMP:20260423T134638Z
SUMMARY:Efektywna komunikacja - dlaczego nie zawsze przekonujemy skutecznie - warsztaty
DESCRIPTION:Zapraszamy na darmowe na warsztaty Efektywnej komunikacji.W trakcie spotkania skupimy się na kluczowym aspekcie komunikacji międzyludzkiej - jej ukrytej naturze. Dowiesz się, jak mimika......
URL:https://app.evenea.pl/event/efektywnakomunikacja23/
PRIORITY:1
CLASS:PUBLIC
END:VEVENT
END:VCALENDAR
