BEGIN:VCALENDAR
VERSION:2.0
METHOD:PUBLISH
BEGIN:VEVENT
DTSTART:20220525T180000
DTEND:20220525T180000
LOCATION:Goyki 3 Art Inkubator Goyki 3  Sopot
TRANSP: OPAQUE
SEQUENCE:0
UID:
DTSTAMP:20260421T084150Z
SUMMARY:Wykład profesora Artura Ekerta: Girolamo Cardano - uczony i hazardzista
DESCRIPTION:środa, 25 maja 2022, godzina 18:00 ul. Goyki 3, Sopot prof. Artur Ekert (University of Oxford &amp; National University of Singapore) Girolamo Cardano - uczony i hazardzistaZapraszamy na wykład......
URL:https://app.evenea.pl/event/ekert/
PRIORITY:1
CLASS:PUBLIC
END:VEVENT
END:VCALENDAR
