BEGIN:VCALENDAR
VERSION:2.0
METHOD:PUBLISH
BEGIN:VEVENT
DTSTART:20200428T130000
DTEND:20200428T130000
LOCATION:   
TRANSP: OPAQUE
SEQUENCE:0
UID:
DTSTAMP:20260424T140633Z
SUMMARY:Webinar ISP3 "Ekoefektywność w budownictwie" 28.04.2020
DESCRIPTION:Regionalna Izba Gospodarcza Pomorza, Lider ISP 3: "Technologie ekoefektywne w produkcji, przesyle, dystrybucji i zużyciu energii i paliw oraz w budownictwie", ma przyjemność zaprosić na......
URL:https://app.evenea.pl/event/ekoefektywnoscwbudownictwie/
PRIORITY:1
CLASS:PUBLIC
END:VEVENT
END:VCALENDAR
