BEGIN:VCALENDAR
VERSION:2.0
METHOD:PUBLISH
BEGIN:VEVENT
DTSTART:20240624T180000
DTEND:20240624T190000
LOCATION:Centrum Edukacji i Wsparcia os. Górali 24  Kraków
TRANSP: OPAQUE
SEQUENCE:0
UID:
DTSTAMP:20260423T234725Z
SUMMARY:EKO-menstruacja | ECO-menstruation | ЕКО-менструація
DESCRIPTION:Grupa wiekowa: dla dorosłych i seniorówJęzyk prowadzenia: polskiPL | EKO-menstruacjaPodczas zajęć porozmawiamy o różnorodnych wielorazowych środkach menstruacyjnych, a wszystkie produkty......
URL:https://app.evenea.pl/event/ekomenstruacja2406/
PRIORITY:1
CLASS:PUBLIC
END:VEVENT
END:VCALENDAR
