BEGIN:VCALENDAR
VERSION:2.0
METHOD:PUBLISH
BEGIN:VEVENT
DTSTART:20251214T100000
DTEND:20251214T120000
LOCATION:Miejskie Hale Targowe- Box 320, podziemia Hali Łukowej, wejście od ul. 3 Maja (obok Muzeum Kameralnego) Wójta Radtkego 36  81-355 Gdynia
TRANSP: OPAQUE
SEQUENCE:0
UID:
DTSTAMP:20260423T175252Z
SUMMARY:Świąteczne Hale- warsztat "Ekoozdoby z Duszą" Olga Obst
DESCRIPTION:Ekoozdoby z Duszą, Niedziela, 14.12.2025, godz.10:00-12:00, Box 320, podziemia Hali ŁukowejProwadzenie: Olga ObstJeśli kochasz naturę, zapach świąt i tworzenie pięknych rzeczy z prostych......
URL:https://app.evenea.pl/event/ekoozdoby/
PRIORITY:1
CLASS:PUBLIC
END:VEVENT
END:VCALENDAR
