BEGIN:VCALENDAR
VERSION:2.0
METHOD:PUBLISH
BEGIN:VEVENT
DTSTART:20191210T180000
DTEND:20191210T230000
LOCATION:klub Stodoła ul. Batorego 10  Warszawa
TRANSP: OPAQUE
SEQUENCE:0
UID:
DTSTAMP:20260425T020445Z
SUMMARY:Elfy SBE - akcja charytatywne branży eventowej 9. edycja
DESCRIPTION:W 2019 ROKU - "ELFY SBE" BĘDĄ WSPIERAĆ 2 OŚRODKIOd 9 lat członkowie, partnerzy oraz przyjaciele Stowarzyszenia Branży Eventowej spotykają się na charytatywnej akcji ELFY.W tym roku zapadła......
URL:https://app.evenea.pl/event/elfy2019/
PRIORITY:1
CLASS:PUBLIC
END:VEVENT
END:VCALENDAR
