BEGIN:VCALENDAR
VERSION:2.0
METHOD:PUBLISH
BEGIN:VEVENT
DTSTART:20251203T120000
DTEND:20251203T220000
LOCATION:Google Warsaw - The Hub rondo Ignacego Daszyńskiego 2C, 00-843  Warszawa
TRANSP: OPAQUE
SEQUENCE:0
UID:
DTSTAMP:20260423T162837Z
SUMMARY:Emerging Founders: Think Global. S03E02 - Superfounders
DESCRIPTION:📅 Emerging Founders: Superfounders - Performance. Wellbeing. Longevity.Date: Wednesday, 3 December 2025 Location: Google Hub, Rondo Daszyńskiego, Warsaw Language: EnglishTickets:......
URL:https://app.evenea.pl/event/emergingfounderss03e02-super-founders/
PRIORITY:1
CLASS:PUBLIC
END:VEVENT
END:VCALENDAR
