BEGIN:VCALENDAR
VERSION:2.0
METHOD:PUBLISH
BEGIN:VEVENT
DTSTART:20240413T140000
DTEND:20240413T153000
LOCATION:Miejsce Otwarte. Centrum Integracji Międzykulturowej. Kraków os. Górali 24  Kraków
TRANSP: OPAQUE
SEQUENCE:0
UID:
DTSTAMP:20260423T050209Z
SUMMARY:English speaking club with Jacob 14+
DESCRIPTION:Grupa wiekowa: 14+Język prowadzenia: angielski, polskiGrupa wiekowa: 14+ (dla nastolatków i dorosłych)PL: Chcesz udoskonalić swój angielski rozmawiając na ciekawe tematy? Dołącz do naszych......
URL:https://app.evenea.pl/event/englishwithjacob1304/
PRIORITY:1
CLASS:PUBLIC
END:VEVENT
END:VCALENDAR
