BEGIN:VCALENDAR
VERSION:2.0
METHOD:PUBLISH
BEGIN:VEVENT
DTSTART:20240425T110000
DTEND:20240425T140000
LOCATION:Młyny Rothera - Sala Młyńska, pierwsze piętro Mennica 10  Bydgoszcz
TRANSP: OPAQUE
SEQUENCE:0
UID:
DTSTAMP:20260421T125839Z
SUMMARY:eNotices2: warsztat praktyczny [BYDGOSZCZ]
DESCRIPTION:Stacjonarny warsztat otwarty — Mateusz Bartosiewicz openNexus o eNotices2Ze względu na olbrzymie wyzwanie jakim jest eNotices 2, openNexus rusza w Polskę! Miasto Bydgoszcz razem z Open Nexus......
URL:https://app.evenea.pl/event/enotices2bydgoszcz/
PRIORITY:1
CLASS:PUBLIC
END:VEVENT
END:VCALENDAR
