BEGIN:VCALENDAR
VERSION:2.0
METHOD:PUBLISH
BEGIN:VEVENT
DTSTART:20240418T100000
DTEND:20240418T130000
LOCATION:Politechnika Gdańska   Gdańsk
TRANSP: OPAQUE
SEQUENCE:0
UID:
DTSTAMP:20260421T060343Z
SUMMARY:eNotices2: warsztat praktyczny [GDAŃSK]
DESCRIPTION:Stacjonarny warsztat otwarty — Mateusz Bartosiewicz openNexus o eNotices2Ze względu na olbrzymie wyzwanie jakim jest eNotices 2, openNexus rusza w Polskę! Politechnika Gdańska razem z Open......
URL:https://app.evenea.pl/event/enotices2gdansk/
PRIORITY:1
CLASS:PUBLIC
END:VEVENT
END:VCALENDAR
