BEGIN:VCALENDAR
VERSION:2.0
METHOD:PUBLISH
BEGIN:VEVENT
DTSTART:20211025T170000
DTEND:20211025T200000
LOCATION:Fablab Gdańsk powered by Orange Dolna Brama 8  Gdańsk
TRANSP: OPAQUE
SEQUENCE:0
UID:
DTSTAMP:20260426T052329Z
SUMMARY:Elektronika ESP8266 z JavaScript i Espruino
DESCRIPTION:Chcesz nauczyć się tworzyć projekty programując elektronikę sterowaną mikrokontrolerami? Duże możliwości daje płytka ESP8266 pozwalając wykorzystać wbudowany moduł WiFi, dzięki czemu......
URL:https://app.evenea.pl/event/esp8266/
PRIORITY:1
CLASS:PUBLIC
END:VEVENT
END:VCALENDAR
