BEGIN:VCALENDAR
VERSION:2.0
METHOD:PUBLISH
BEGIN:VEVENT
DTSTART:20191204T180000
DTEND:20191204T210000
LOCATION:Drewniana Chata na Planu Solnym 3 pietro/Weihnachtshaus 3 Etage pl. Solny  50-060
TRANSP: OPAQUE
SEQUENCE:0
UID:
DTSTAMP:20260426T053524Z
SUMMARY:Zaproszenie na spotkanie Europa Forum - Einladung zum Treffen Europa Forum
DESCRIPTION:Szanowni Członkowie EUROPA FORUM, Drodzy Partnerzy i Przyjaciele EUROPA FORUM,Serdecznie zapraszamy Państwa na wspólne spotkanie i luźne rozmowy w przedświątecznej atmosferze przy grzanym......
URL:https://app.evenea.pl/event/europa-forum-2019-12-04/
PRIORITY:1
CLASS:PUBLIC
END:VEVENT
END:VCALENDAR
