BEGIN:VCALENDAR
VERSION:2.0
METHOD:PUBLISH
BEGIN:VEVENT
DTSTART:20201024T210000
DTEND:20201024T223000
LOCATION:Narodowe Forum Muzyki plac Wolności 1  Wrocław
TRANSP: OPAQUE
SEQUENCE:0
UID:
DTSTAMP:20260422T233121Z
SUMMARY:Zaproszenie na Koncert / Einladung zum Konzert im NATIONALEN FORUM DER MUSIK in Breslau
DESCRIPTION:Zaproszenie INAUGURACJĘ ORGANÓW w NARODOWYM FORUM MUZYKI we Wrocławiu i KONCERT ORGANOWY "Poczuj potęgę dźwięku!"Szanowni Państwo,Serdecznie zapraszamy Państwa na wyjątkowe wydarzenie......
URL:https://app.evenea.pl/event/europa-forum-2020-10-24/
PRIORITY:1
CLASS:PUBLIC
END:VEVENT
END:VCALENDAR
