BEGIN:VCALENDAR
VERSION:2.0
METHOD:PUBLISH
BEGIN:VEVENT
DTSTART:20210128T130000
DTEND:20210128T141500
LOCATION:ONLINE Treffen   
TRANSP: OPAQUE
SEQUENCE:0
UID:
DTSTAMP:20260421T153322Z
SUMMARY:Zaproszenie na spotkanie online / Einladung zum Online Treffen Europa Forum 28.1.2021 godz. 13:00-14:15
DESCRIPTION:Szanowni Państwo, Drodzy Członkowie Europa Forum,Polsko-Niemieckie Koło Gospodarcze EUROPA FORUM serdecznie zaprasza na spotkanie online na temat: Ekspansja polskich firm na rynku niemieckim w......
URL:https://app.evenea.pl/event/europa-forum-2021-1-28/
PRIORITY:1
CLASS:PUBLIC
END:VEVENT
END:VCALENDAR
