BEGIN:VCALENDAR
VERSION:2.0
METHOD:PUBLISH
BEGIN:VEVENT
DTSTART:20210225T130000
DTEND:20210225T141500
LOCATION:ONLINE Treffen /zoom   
TRANSP: OPAQUE
SEQUENCE:0
UID:
DTSTAMP:20260421T155756Z
SUMMARY:Zaproszenie na spotkanie online / Einladung zum Online Treffen Europa Forum 25.2.2021 godz. 13:00-14:15
DESCRIPTION:Szanowni Państwo, Drodzy Członkowie Europa Forum,Polsko-Niemieckie Koło Gospodarcze EUROPA FORUM serdecznie zaprasza na spotkanie online na temat: Ożywienie czy powrót recesji? Perspektywy......
URL:https://app.evenea.pl/event/europa-forum-2021-2-25/
PRIORITY:1
CLASS:PUBLIC
END:VEVENT
END:VCALENDAR
