BEGIN:VCALENDAR
VERSION:2.0
METHOD:PUBLISH
BEGIN:VEVENT
DTSTART:20231109T092000
DTEND:20231109T160000
LOCATION:Online Online  Online
TRANSP: OPAQUE
SEQUENCE:0
UID:
DTSTAMP:20260421T000211Z
SUMMARY:Expert Summit 2023 - All about Microsoft technologies (online)
DESCRIPTION:EXPERT SUMMIT 2023 - All about Microsoft Technologies (online) to XI. edycja największej konferencji poświęconej technologiom Microsoft w Polsce. W tym roku konferencja odbywa się w formie......
URL:https://app.evenea.pl/event/expertsummit2023/
PRIORITY:1
CLASS:PUBLIC
END:VEVENT
END:VCALENDAR
