BEGIN:VCALENDAR
VERSION:2.0
METHOD:PUBLISH
BEGIN:VEVENT
DTSTART:20200908T100000
DTEND:20200908T130000
LOCATION:Konferencja online Dostęp zdalny  Dla uczestników
TRANSP: OPAQUE
SEQUENCE:0
UID:
DTSTAMP:20260422T232016Z
SUMMARY:Bezpłatna konferencja online "EXPORT-ON! - Portugalia, Hiszpania, Brazylia"
DESCRIPTION:Bydgoska Agencja Rozwoju Regionalnego razem z partnerami merytorycznymi: Polsko - Portugalską Izbą Gospodarczą oraz Polsko - Hiszpańską Izbą Gospodarczą zaprasza na konferencję online,......
URL:https://app.evenea.pl/event/export-on-portugalia-hiszpania-brazylia/
PRIORITY:1
CLASS:PUBLIC
END:VEVENT
END:VCALENDAR
